BEGIN:VCALENDAR
VERSION:2.0
CALSCALE:GREGORIAN
PRODID:-//Diputació de Barcelona//DibaCMS//EN
BEGIN:VEVENT
UID:6411
DTSTAMP:20260422T202244
DTSTART:20131018T000000
DTEND:20141018T000000
SUMMARY:L'alcalde participarà aquesta tarda en un acte a Parets organitzat per ICV-EUiA
LOCATION:
METHOD:PUBLISH
X-WR-CALNAME:llagosta@llagosta.cat
X-WR-TIMEZONE:Europe/Madrid
DESCRIPTION:L'alcalde de la Llagosta, Alberto López, intervindrà aquesta tarda en un acte, que, amb el títol de Drets nacionals i drets socials, organitzen Iniciativa per Catalunya Verds i Esquerra Unida i Alternativa de Parets. La xerrada, que comptarà també amb la participació del portaveu adjunt d'ICV-EUiA al Parlament, Joan Mena, se celebrarà a les sis de la tarda a Can Rajoler, a Parets. 
URI:https://www.llagosta.cat/actualitat/noticies/lalcalde-participara-aquesta-tarda-en-un-acte-a-parets-organitzat-per-icv-euia.html
CLASS:PUBLIC
END:VEVENT
END:VCALENDAR
