BEGIN:VCALENDAR
VERSION:2.0
CALSCALE:GREGORIAN
PRODID:-//Diputació de Barcelona//DibaCMS//EN
BEGIN:VEVENT
UID:6409
DTSTAMP:20260421T103126
DTSTART:20131018T000000
DTEND:20141018T000000
SUMMARY:Canvia el sentit de la circulació dels vehicles per un tram de l'avinguda del Turó
LOCATION:
METHOD:PUBLISH
X-WR-CALNAME:llagosta@llagosta.cat
X-WR-TIMEZONE:Europe/Madrid
DESCRIPTION:L'Ajuntament de la Llagosta ha canviat ja el sentit de la circulació en el tram de l'avinguda del Turó comprès entre els carrers de Sant Pau i de Josep Montserrat. Els vehicles circulen ara en direcció cap a Mollet en lloc de fer-ho en sentit cap a la riera Seca. El Consistori atén així la petició feta pel veïnat de la zona. L'avinguda del Turó passa a ser en la seva major part d'un únic sentit de circulació, cap a Mollet. Entre els carrers de Sant Bonaventura i Joaquim Blume es mantenen els dos carrils actuals.
URI:https://www.llagosta.cat/actualitat/noticies/canvia-el-sentit-de-la-circulacio-dels-vehicles-per-un-tram-de-lavinguda-del-turo.html
CLASS:PUBLIC
END:VEVENT
END:VCALENDAR
