BEGIN:VCALENDAR
VERSION:2.0
CALSCALE:GREGORIAN
PRODID:-//Diputació de Barcelona//DibaCMS//EN
BEGIN:VEVENT
UID:6408
DTSTAMP:20260421T185621
DTSTART:20131018T000000
DTEND:20141018T000000
SUMMARY:Un home de 45 anys va morir ahir en un accident laboral en una empresa de la Llagosta
LOCATION:
METHOD:PUBLISH
X-WR-CALNAME:llagosta@llagosta.cat
X-WR-TIMEZONE:Europe/Madrid
DESCRIPTION:Un veí de Barcelona de 45 anys va morir ahir en un accident laboral en una empresa situada al carrer del Doctor Ferran del polígon industrial de la Llagosta. Els fets van passar aproximadament a dos quarts de dues del migdia. 
URI:https://www.llagosta.cat/actualitat/noticies/un-home-de-45-anys-va-morir-ahir-en-un-accident-laboral-en-una-empresa-de-la-llagosta.html
CLASS:PUBLIC
END:VEVENT
END:VCALENDAR
