BEGIN:VCALENDAR
VERSION:2.0
CALSCALE:GREGORIAN
PRODID:-//Diputació de Barcelona//DibaCMS//EN
BEGIN:VEVENT
UID:6404
DTSTAMP:20260422T104845
DTSTART:20131016T000000
DTEND:20141016T000000
SUMMARY:El Complex Esportiu Municipal El Turó de la Llagosta supera els 1.800 abonats
LOCATION:
METHOD:PUBLISH
X-WR-CALNAME:llagosta@llagosta.cat
X-WR-TIMEZONE:Europe/Madrid
DESCRIPTION:El Complex Esportiu Municipal (CEM) El Turó ha superat aquest mes els 1.800
abonaments en les diferents modalitats que ofereixen les tarifes d'aquest equipament públic. Aquesta xifra suposa que s'hagi superat en un any el nombre d'abonaments que hi havia a l'estiu de 2012, just abans que l'Ajuntament de la Llagosta intervingués i recuperés la gestió de l'equipament davant la negativa de l'anterior empresa concessionària, Geafe, a fer-se càrrec del correcte manteniment de les instal·lacions del complex esportiu.
URI:https://www.llagosta.cat/actualitat/noticies/el-complex-esportiu-municipal-el-turo-de-la-llagosta-supera-els-1800-abonats.html
CLASS:PUBLIC
END:VEVENT
END:VCALENDAR
