BEGIN:VCALENDAR
VERSION:2.0
CALSCALE:GREGORIAN
PRODID:-//Diputació de Barcelona//DibaCMS//EN
BEGIN:VEVENT
UID:6402
DTSTAMP:20260422T002220
DTSTART:20131015T000000
DTEND:20141015T000000
SUMMARY:El FS Unión Llagostense suma la segona victòria en guanyar clarament el Bonavista (0-4) 
LOCATION:
METHOD:PUBLISH
X-WR-CALNAME:llagosta@llagosta.cat
X-WR-TIMEZONE:Europe/Madrid
DESCRIPTION:El primer equip del Fútbol Sala Unión Llagostense ha sumat una nova victòria. Els de la nostra localitat van guanyar el cap de setmana passat el Bonavista per un clar 0 a 4.
URI:https://www.llagosta.cat/actualitat/noticies/el-fs-union-llagostense-suma-la-segona-victoria-en-guanyar-clarament-el-bonavista-0-4-.html
CLASS:PUBLIC
END:VEVENT
END:VCALENDAR
