BEGIN:VCALENDAR
VERSION:2.0
CALSCALE:GREGORIAN
PRODID:-//Diputació de Barcelona//DibaCMS//EN
BEGIN:VEVENT
UID:6401
DTSTAMP:20260421T104732
DTSTART:20131015T000000
DTEND:20141015T000000
SUMMARY:Presentat el llibre Sentimientos a flor de piel, de la llagostenca Paquita Pedrós Espinosa
LOCATION:
METHOD:PUBLISH
X-WR-CALNAME:llagosta@llagosta.cat
X-WR-TIMEZONE:Europe/Madrid
DESCRIPTION:Paquita Pedrós Espinosa, veïna de la Llagosta, va presentar ahir el seu primer llibre, Sentimientos a flor de piel, en un acte que va tenir lloc al saló de plens de l'Ajuntament. Pedrós va estar acompanyada per l'alcalde, Alberto López, pel regidor de Cultura, Jesús Ríos, i per un bon nombre de veïns, que van omplir la sala.
URI:https://www.llagosta.cat/actualitat/noticies/presentat-el-llibre-sentimientos-a-flor-de-piel-de-la-llagostenca-paquita-pedros-espinosa.html
CLASS:PUBLIC
END:VEVENT
END:VCALENDAR
