BEGIN:VCALENDAR
VERSION:2.0
CALSCALE:GREGORIAN
PRODID:-//Diputació de Barcelona//DibaCMS//EN
BEGIN:VEVENT
UID:6400
DTSTAMP:20260421T111654
DTSTART:20131015T000000
DTEND:20141015T000000
SUMMARY:Demà, es canviarà el sentit de la circulació en el primer tram del carrer de l'Estació
LOCATION:
METHOD:PUBLISH
X-WR-CALNAME:llagosta@llagosta.cat
X-WR-TIMEZONE:Europe/Madrid
DESCRIPTION:L'Ajuntament de la Llagosta canviarà demà el sentit de la circulació de vehicles del carrer de l'Estació, entre les avingudes de l'Onze de Setembre i del Primer de Maig. Hi haurà només un únic carril d'entrada al municipi. Així, se suprimirà també el tram de sortida que hi ha ara entre el carrer del Mercat i l'avinguda de l'Onze de Setembre i els vehicles només podran circular en sentit cap a l'avinguda del Primer de Maig.
URI:https://www.llagosta.cat/actualitat/noticies/dema-es-canviara-el-sentit-de-la-circulacio-en-el-primer-tram-del-carrer-de-lestacio.html
CLASS:PUBLIC
END:VEVENT
END:VCALENDAR
