BEGIN:VCALENDAR
VERSION:2.0
CALSCALE:GREGORIAN
PRODID:-//Diputació de Barcelona//DibaCMS//EN
BEGIN:VEVENT
UID:6397
DTSTAMP:20260422T060344
DTSTART:20131014T000000
DTEND:20141014T000000
SUMMARY:4.000 abonats d'Endesa pateixen una avaria en el subministrament elèctric
LOCATION:
METHOD:PUBLISH
X-WR-CALNAME:llagosta@llagosta.cat
X-WR-TIMEZONE:Europe/Madrid
DESCRIPTION:Uns 4.000 abonats de la Llagosta de la companyia Endesa es van veure ahir afectats per un tall del subministrament elèctric. Segons han explicat fonts d'Endesa, una avaria en un línia de mitja tensió soterrada que dona servei al nostre municipi va provocar el tall a un quart de sis de la tarda.
URI:https://www.llagosta.cat/actualitat/noticies/4000-abonats-dendesa-pateixen-una-avaria-en-el-subministrament-electric.html
CLASS:PUBLIC
END:VEVENT
END:VCALENDAR
