BEGIN:VCALENDAR
VERSION:2.0
CALSCALE:GREGORIAN
PRODID:-//Diputació de Barcelona//DibaCMS//EN
BEGIN:VEVENT
UID:6396
DTSTAMP:20260421T190825
DTSTART:20131014T000000
DTEND:20141014T000000
SUMMARY:El conjunt amateur del Club Esportiu la Llagosta guanya l'Ametlla del Vallès per 2 a 1
LOCATION:
METHOD:PUBLISH
X-WR-CALNAME:llagosta@llagosta.cat
X-WR-TIMEZONE:Europe/Madrid
DESCRIPTION:El primer equip del Club Esportiu la Llagosta va guanyar dissabte per 2 a 1 l'Ametlla del Vallès i manté el liderat amb dotze punts, empatat amb l'Ametlla Associació Esportiva. Els visitants es van avançar al minut 16, però els llagostencs li van donar la volta al marcador. Abans del descans, Javier Rodríguez va empatar i, a la segona part, Aitor Carrionero va fer el gol de la victòria. 
URI:https://www.llagosta.cat/actualitat/noticies/el-conjunt-amateur-del-club-esportiu-la-llagosta-guanya-lametlla-del-valles-per-2-a-1.html
CLASS:PUBLIC
END:VEVENT
END:VCALENDAR
