BEGIN:VCALENDAR
VERSION:2.0
CALSCALE:GREGORIAN
PRODID:-//Diputació de Barcelona//DibaCMS//EN
BEGIN:VEVENT
UID:6395
DTSTAMP:20260422T060443
DTSTART:20131011T000000
DTEND:20141011T000000
SUMMARY:La Llagosta tornarà a organitzar activitats solidàries amb motiu de la Marató de TV3
LOCATION:
METHOD:PUBLISH
X-WR-CALNAME:llagosta@llagosta.cat
X-WR-TIMEZONE:Europe/Madrid
DESCRIPTION:La Llagosta es tornarà a sumar a la recaptació de fons per a la Marató de TV3. Una vintena d'entitats es van reunir ahir amb l'Ajuntament per conèixer a què es dedicarà l'acció solidària d'aquest any i les novetats a tenir presents a l'hora d'organitzar activitats.
URI:https://www.llagosta.cat/actualitat/noticies/la-llagosta-tornara-a-organitzar-activitats-solidaries-amb-motiu-de-la-marato-de-tv3.html
CLASS:PUBLIC
END:VEVENT
END:VCALENDAR
