BEGIN:VCALENDAR
VERSION:2.0
CALSCALE:GREGORIAN
PRODID:-//Diputació de Barcelona//DibaCMS//EN
BEGIN:VEVENT
UID:6394
DTSTAMP:20260422T061048
DTSTART:20131011T000000
DTEND:20141011T000000
SUMMARY:El primer equip del Joventut Handbol guanya l'Alcarràs i ara es desplaça a la pista del Claret
LOCATION:
METHOD:PUBLISH
X-WR-CALNAME:llagosta@llagosta.cat
X-WR-TIMEZONE:Europe/Madrid
DESCRIPTION:El sènior masculí del Joventut Handbol la Llagosta jugarà aquest cap de setmana a la pista del Claret. El conjunt llagostenc va començar dissabte la lliga amb una victòria per 29 a 16 contra l'Alcarràs.
URI:https://www.llagosta.cat/actualitat/noticies/el-primer-equip-del-joventut-handbol-guanya-lalcarras-i-ara-es-desplaca-a-la-pista-del-claret.html
CLASS:PUBLIC
END:VEVENT
END:VCALENDAR
