BEGIN:VCALENDAR
VERSION:2.0
CALSCALE:GREGORIAN
PRODID:-//Diputació de Barcelona//DibaCMS//EN
BEGIN:VEVENT
UID:6393
DTSTAMP:20260421T103025
DTSTART:20131011T000000
DTEND:20141011T000000
SUMMARY:El sènior del Vallag juga contra el Sant Martí Adrianenc C després de debutar amb un triomf
LOCATION:
METHOD:PUBLISH
X-WR-CALNAME:llagosta@llagosta.cat
X-WR-TIMEZONE:Europe/Madrid
DESCRIPTION:El conjunt sènior de l'Handbol Club Vallag es desplaçarà aquesta jornada a la pista del Sant Martí Adrianenc C després de debutar el cap de setmana passat a la lliga amb un triomf sobre el Sant Joan Despí B per 27 a 21. Els de Javi Iglesias van fer un bon partit i van arribar a guanyar per deu gols. 
URI:https://www.llagosta.cat/actualitat/noticies/el-senior-del-vallag-juga-contra-el-sant-marti-adrianenc-c-despres-de-debutar-amb-un-triomf.html
CLASS:PUBLIC
END:VEVENT
END:VCALENDAR
