BEGIN:VCALENDAR
VERSION:2.0
CALSCALE:GREGORIAN
PRODID:-//Diputació de Barcelona//DibaCMS//EN
BEGIN:VEVENT
UID:6392
DTSTAMP:20260422T141409
DTSTART:20131011T000000
DTEND:20141011T000000
SUMMARY:Dilluns, es presenta a la Llagosta el llibre Sentimientos a flor de piel, de Paquita Pedrós
LOCATION:
METHOD:PUBLISH
X-WR-CALNAME:llagosta@llagosta.cat
X-WR-TIMEZONE:Europe/Madrid
DESCRIPTION:El saló de plens de l'Ajuntament de la Llagosta acollirà dilluns la presentació del llibre Sentimientos a flor de piel, de l'escriptora de la Llagosta Paquita Pedrós Espinosa. L'acte, que comptarà amb la presència de Paquita Pedrós, començarà a les 19.30 hores. L'alcalde, Alberto López, i el regidor de Cultura, Jesús Ríos, també hi seran presents. 
URI:https://www.llagosta.cat/actualitat/noticies/dilluns-es-presenta-a-la-llagosta-el-llibre-sentimientos-a-flor-de-piel-de-paquita-pedros.html
CLASS:PUBLIC
END:VEVENT
END:VCALENDAR
