BEGIN:VCALENDAR
VERSION:2.0
CALSCALE:GREGORIAN
PRODID:-//Diputació de Barcelona//DibaCMS//EN
BEGIN:VEVENT
UID:6391
DTSTAMP:20260421T161306
DTSTART:20131010T000000
DTEND:20141010T000000
SUMMARY:El Fútbol Sala Unión Llagostense guanya clarament el Teia B (4-0) 
LOCATION:
METHOD:PUBLISH
X-WR-CALNAME:llagosta@llagosta.cat
X-WR-TIMEZONE:Europe/Madrid
DESCRIPTION:El primer equip del Fútbol Sala Unión Llagostense va guanyar el cap de setmana passat el Teià B per 4 a 0. Els de la nostra localitat jugaran la propera jornada a la pista del Bonavista, de Santa Coloma de Gramenet.
URI:https://www.llagosta.cat/actualitat/noticies/el-futbol-sala-union-llagostense-guanya-clarament-el-teia-b-4-0-.html
CLASS:PUBLIC
END:VEVENT
END:VCALENDAR
