BEGIN:VCALENDAR
VERSION:2.0
CALSCALE:GREGORIAN
PRODID:-//Diputació de Barcelona//DibaCMS//EN
BEGIN:VEVENT
UID:6390
DTSTAMP:20260423T145414
DTSTART:20131010T000000
DTEND:20141010T000000
SUMMARY:Alberto López assistirà diumenge a l'Assemblea d'alcaldes contra la reforma dels ajuntaments
LOCATION:
METHOD:PUBLISH
X-WR-CALNAME:llagosta@llagosta.cat
X-WR-TIMEZONE:Europe/Madrid
DESCRIPTION:L'alcalde de la Llagosta, Alberto López, assistirà diumenge a l'Assemblea d'alcaldes i alcaldesses que estan en contra del Projecte de Llei de Racionalització i Sostenibilitat de l'Administració Local. L'acte se celebrarà al Poliesportiu de l'ONCE a Madrid i està previst que es llegeixi un manifest conjunt en contra d'aquesta reforma que vol imposar el Govern del Partit Popular. L'alcalde de la Llagosta llegirà una part del text, com a representant d'Iniciativa per Catalunya Verds.
URI:https://www.llagosta.cat/actualitat/noticies/alberto-lopez-assistira-diumenge-a-lassemblea-dalcaldes-contra-la-reforma-dels-ajuntaments.html
CLASS:PUBLIC
END:VEVENT
END:VCALENDAR
