BEGIN:VCALENDAR
VERSION:2.0
CALSCALE:GREGORIAN
PRODID:-//Diputació de Barcelona//DibaCMS//EN
BEGIN:VEVENT
UID:6389
DTSTAMP:20260421T102755
DTSTART:20131010T000000
DTEND:20141010T000000
SUMMARY:La deixalleria de la Llagosta estarà tancada el proper cap de setmana
LOCATION:
METHOD:PUBLISH
X-WR-CALNAME:llagosta@llagosta.cat
X-WR-TIMEZONE:Europe/Madrid
DESCRIPTION:La deixalleria de la Llagosta estarà tancada els propers 12 i 13 d'octubre, d'acord amb el calendari laboral d'aquest any. La deixalleria està situada al polígon industrial, a la cantonada dels carrers de Vic i Gaudí. El seu horari habitual és de dimarts a divendres al matí, de deu a una, i a la tarda, de quatre a set; els dissabtes de deu a dues i de quatre a set; i els diumenges de deu a dues. 
URI:https://www.llagosta.cat/actualitat/noticies/la-deixalleria-de-la-llagosta-estara-tancada-el-proper-cap-de-setmana.html
CLASS:PUBLIC
END:VEVENT
END:VCALENDAR
