BEGIN:VCALENDAR
VERSION:2.0
CALSCALE:GREGORIAN
PRODID:-//Diputació de Barcelona//DibaCMS//EN
BEGIN:VEVENT
UID:6388
DTSTAMP:20260422T221620
DTSTART:20131010T000000
DTEND:20141009T000000
SUMMARY:Tres dies de dol per la mort, aquest dimarts, de José Luis López, alcalde del 1983 al 2002
LOCATION:
METHOD:PUBLISH
X-WR-CALNAME:llagosta@llagosta.cat
X-WR-TIMEZONE:Europe/Madrid
DESCRIPTION:L'Ajuntament de la Llagosta ha decretat tres dies de dol per la mort dimarts de José Luis López Segura, que va ser alcalde del municipi de 1983 fins l'any 2002. La cerimònia de comiat de José Luis López, que tenia 73 anys,  tindrà lloc dijous a les 13.15 h al tanatori de Collserola, a Barcelona. 

L'alcalde de la Llagosta, Alberto López, va expressar la tarda d'ahir a la família el seu condol i el de tota la Corporació municipal. Alberto López ha explicat que “José Luis López Segura va ser per la Llagosta quelcom més que un alcalde, perquè gràcies a tots els anys que va dedicar-se en cos i ànima a treballar pel municipi es va guanyar ser l'Alcalde, en majúscules”.

José Luis López Segura va arribar a Catalunya procedent d’Almeria l'any 1954. Primer va viure uns anys a Sant Adrià de Besòs i l'any 1965 s’establí definitivament a la Llagosta. 
URI:https://www.llagosta.cat/actualitat/noticies/tres-dies-de-dol-per-la-mort-aquest-dimarts-de-jose-luis-lopez-alcalde-del-1983-al-2002.html
CLASS:PUBLIC
END:VEVENT
END:VCALENDAR
