BEGIN:VCALENDAR
VERSION:2.0
CALSCALE:GREGORIAN
PRODID:-//Diputació de Barcelona//DibaCMS//EN
BEGIN:VEVENT
UID:6387
DTSTAMP:20260422T132237
DTSTART:20131008T000000
DTEND:20141008T000000
SUMMARY:L'alcalde defensa a Madrid l'esmena d'Izquierda Plural contra la Llei de reforma dels ajuntaments
LOCATION:
METHOD:PUBLISH
X-WR-CALNAME:llagosta@llagosta.cat
X-WR-TIMEZONE:Europe/Madrid
DESCRIPTION:L'alcalde de la Llagosta, Alberto López, va participar ahir al Congrés dels Diputats a l'acte de presentació de l'esmena a la totalitat que el grup parlamentari d'Izquierda Plural (IU, ICV-EUiA i CHA) presentarà contra la Llei de racionalització i sostenibilitat de l'administració local que impulsa el govern del Partit Popular (PP). López va intervenir com a alcalde de la Llagosta en representació de la delegació catalana convidada pel grup parlamentari d'Izquierda Plural.
URI:https://www.llagosta.cat/actualitat/noticies/lalcalde-defensa-a-madrid-lesmena-dizquierda-plural-contra-la-llei-de-reforma-dels-ajuntaments.html
CLASS:PUBLIC
END:VEVENT
END:VCALENDAR
