BEGIN:VCALENDAR
VERSION:2.0
CALSCALE:GREGORIAN
PRODID:-//Diputació de Barcelona//DibaCMS//EN
BEGIN:VEVENT
UID:6386
DTSTAMP:20260421T161328
DTSTART:20131008T000000
DTEND:20141008T000000
SUMMARY:El Viejas Glorias continua en primera posició després de derrotar la Romànica (3-6)
LOCATION:
METHOD:PUBLISH
X-WR-CALNAME:llagosta@llagosta.cat
X-WR-TIMEZONE:Europe/Madrid
DESCRIPTION:El Club Deportivo Viejas Glorias va aconseguir el cap de setmana un nou triomf i va confirmar el bon inici de campionat amb la tercera victòria en tres partits. El conjunt que entrena Óscar Muñoz va guanyar al camp de la Romànica per 3 a 6. 
URI:https://www.llagosta.cat/actualitat/noticies/el-viejas-glorias-continua-en-primera-posicio-despres-de-derrotar-la-romanica-3-6.html
CLASS:PUBLIC
END:VEVENT
END:VCALENDAR
