BEGIN:VCALENDAR
VERSION:2.0
CALSCALE:GREGORIAN
PRODID:-//Diputació de Barcelona//DibaCMS//EN
BEGIN:VEVENT
UID:6385
DTSTAMP:20260422T034821
DTSTART:20131008T000000
DTEND:20141008T000000
SUMMARY:El conjunt amateur del CE la Llagosta goleja el Llinars (2-5) i manté el liderat
LOCATION:
METHOD:PUBLISH
X-WR-CALNAME:llagosta@llagosta.cat
X-WR-TIMEZONE:Europe/Madrid
DESCRIPTION:El primer equip del Club Esportiu la Llagosta va aconseguir diumenge el tercer triomf de la temporada en guanyar al camp del Llinars per 2 a 5. Els llagostencs són líders amb nou punts, empatats amb l'Ametlla Associació Esportiva.
URI:https://www.llagosta.cat/actualitat/noticies/el-conjunt-amateur-del-ce-la-llagosta-goleja-el-llinars-2-5-i-mante-el-liderat.html
CLASS:PUBLIC
END:VEVENT
END:VCALENDAR
