BEGIN:VCALENDAR
VERSION:2.0
CALSCALE:GREGORIAN
PRODID:-//Diputació de Barcelona//DibaCMS//EN
BEGIN:VEVENT
UID:6384
DTSTAMP:20260422T035642
DTSTART:20131008T000000
DTEND:20141008T000000
SUMMARY:L'Ajuntament de la Llagosta estudia un projecte per instal·lar fibra òptica a tot el municipi
LOCATION:
METHOD:PUBLISH
X-WR-CALNAME:llagosta@llagosta.cat
X-WR-TIMEZONE:Europe/Madrid
DESCRIPTION:L'Ajuntament de la Llagosta està estudiant un projecte per tal d'instal·lar fibra òptica a tot el nostre municipi. La proposta va sorgir en la darrera reunió que va celebrar la Mancomunitat del Galzeran, de la qual formen part els consistoris de Sant Fost, Martorelles, Santa Maria de Martorelles, Montornès, Vilanova i la Llagosta. 
URI:https://www.llagosta.cat/actualitat/noticies/lajuntament-de-la-llagosta-estudia-un-projecte-per-installar-fibra-optica-a-tot-el-municipi.html
CLASS:PUBLIC
END:VEVENT
END:VCALENDAR
