BEGIN:VCALENDAR
VERSION:2.0
CALSCALE:GREGORIAN
PRODID:-//Diputació de Barcelona//DibaCMS//EN
BEGIN:VEVENT
UID:6383
DTSTAMP:20260422T033719
DTSTART:20131007T000000
DTEND:20141007T000000
SUMMARY:La Policia Local realitza una campanya informativa de control dels fums dels vehicles
LOCATION:
METHOD:PUBLISH
X-WR-CALNAME:llagosta@llagosta.cat
X-WR-TIMEZONE:Europe/Madrid
DESCRIPTION:La Policia Local de la Llagosta porta a terme entre avui i divendres una campanya informativa de control dels fums dels vehicles. Aquesta activitat és la darrera prevista en la programació elaborada per l'Ajuntament de la Llagosta per celebrar a la nostra localitat la Setmana de la Mobilitat Sostenible i Segura.
URI:https://www.llagosta.cat/actualitat/noticies/la-policia-local-realitza-una-campanya-informativa-de-control-dels-fums-dels-vehicles.html
CLASS:PUBLIC
END:VEVENT
END:VCALENDAR
