BEGIN:VCALENDAR
VERSION:2.0
CALSCALE:GREGORIAN
PRODID:-//Diputació de Barcelona//DibaCMS//EN
BEGIN:VEVENT
UID:6382
DTSTAMP:20260422T001901
DTSTART:20131007T000000
DTEND:20141007T000000
SUMMARY:El temporal de divendres va causar danys al polígon industrial i desperfectes a vehicles
LOCATION:
METHOD:PUBLISH
X-WR-CALNAME:llagosta@llagosta.cat
X-WR-TIMEZONE:Europe/Madrid
DESCRIPTION:La tempesta d'aigua, vent i llamps de divendres va provocar alguns desperfectes a la nostra localitat. La caiguda d'una paret d'una empresa del polígon, arbres arrencats i alguna zona inundada van ser les incidències més destacades. Tot i això, no cal lamentar cap dany personal.
URI:https://www.llagosta.cat/actualitat/noticies/el-temporal-de-divendres-va-causar-danys-al-poligon-industrial-i-desperfectes-a-vehicles.html
CLASS:PUBLIC
END:VEVENT
END:VCALENDAR
