BEGIN:VCALENDAR
VERSION:2.0
CALSCALE:GREGORIAN
PRODID:-//Diputació de Barcelona//DibaCMS//EN
BEGIN:VEVENT
UID:6381
DTSTAMP:20260421T160358
DTSTART:20131007T000000
DTEND:20141007T000000
SUMMARY:El conjunt sènior de la Concòrdia derrota el Marfil Santa Coloma i segueix com a líder
LOCATION:
METHOD:PUBLISH
X-WR-CALNAME:llagosta@llagosta.cat
X-WR-TIMEZONE:Europe/Madrid
DESCRIPTION:El sènior del Club Deportivo la Concòrdia va guanyar ahir el Marfil Santa Coloma per 1 a 2 tot i que tenia diverses baixes. El partit va ser molt igualat amb ocasions per als dos equips.
URI:https://www.llagosta.cat/actualitat/noticies/el-conjunt-senior-de-la-concordia-derrota-el-marfil-santa-coloma-i-segueix-com-a-lider.html
CLASS:PUBLIC
END:VEVENT
END:VCALENDAR
