BEGIN:VCALENDAR
VERSION:2.0
CALSCALE:GREGORIAN
PRODID:-//Diputació de Barcelona//DibaCMS//EN
BEGIN:VEVENT
UID:6380
DTSTAMP:20260423T144722
DTSTART:20131004T000000
DTEND:20141004T000000
SUMMARY:L'Ajuntament de la Llagosta distribueix avui el 08CENTVINT del mes d'octubre
LOCATION:
METHOD:PUBLISH
X-WR-CALNAME:llagosta@llagosta.cat
X-WR-TIMEZONE:Europe/Madrid
DESCRIPTION:Avui ha sortit al carrer el número 3 del 08CENTVINT, l'Informatiu de la Llagosta. La publicació avança en la seva portada els canvis en el sentit de la circulació que l'Ajuntament té previst introduir durant aquest mes al carrer de l'Estació i a l'avinguda del Turó. Un altre tema destacat és que el Club Esportiu la Llagosta torna a tenir primer equip.
URI:https://www.llagosta.cat/actualitat/noticies/lajuntament-de-la-llagosta-distribueix-avui-el-08centvint-del-mes-doctubre.html
CLASS:PUBLIC
END:VEVENT
END:VCALENDAR
