BEGIN:VCALENDAR
VERSION:2.0
CALSCALE:GREGORIAN
PRODID:-//Diputació de Barcelona//DibaCMS//EN
BEGIN:VEVENT
UID:6379
DTSTAMP:20260422T040219
DTSTART:20131004T000000
DTEND:20141004T000000
SUMMARY:L'Asociacion Rociera ha programat fins a tres festes per aquest mes d'octubre
LOCATION:
METHOD:PUBLISH
X-WR-CALNAME:llagosta@llagosta.cat
X-WR-TIMEZONE:Europe/Madrid
DESCRIPTION:L'àrea juvenil de l'Asociación Rociera Andaluza de la Llagosta organitza al llarg d'aquest mes d'octubre tot un seguit d'activitats adreçades a tota la població. Els dissabtes 5 i 12 i el dijous 31 la seu de l'entitat, al carrer de Girona, serà l'escenari de festes musicals i la celebració de Halloween.
URI:https://www.llagosta.cat/actualitat/noticies/lasociacion-rociera-ha-programat-fins-a-tres-festes-per-aquest-mes-doctubre.html
CLASS:PUBLIC
END:VEVENT
END:VCALENDAR
