BEGIN:VCALENDAR
VERSION:2.0
CALSCALE:GREGORIAN
PRODID:-//Diputació de Barcelona//DibaCMS//EN
BEGIN:VEVENT
UID:6378
DTSTAMP:20260422T184229
DTSTART:20131004T000000
DTEND:20141004T000000
SUMMARY:El primer equip del Vallag comença la lliga demà a casa contra el Sant Joan Despí B
LOCATION:
METHOD:PUBLISH
X-WR-CALNAME:llagosta@llagosta.cat
X-WR-TIMEZONE:Europe/Madrid
DESCRIPTION:El conjunt sènior de l'Handbol Club Vallag iniciarà demà la temporada 2013-2014. L'equip de Javi Iglesias rebrà en la primera jornada de lliga la visita del Sant Joan Despí B. El partit es disputarà a partir de les set de la tarda al Pavelló del CEM El Turó.
URI:https://www.llagosta.cat/actualitat/noticies/el-primer-equip-del-vallag-comenca-la-lliga-dema-a-casa-contra-el-sant-joan-despi-b.html
CLASS:PUBLIC
END:VEVENT
END:VCALENDAR
