BEGIN:VCALENDAR
VERSION:2.0
CALSCALE:GREGORIAN
PRODID:-//Diputació de Barcelona//DibaCMS//EN
BEGIN:VEVENT
UID:6377
DTSTAMP:20260422T112640
DTSTART:20131004T000000
DTEND:20141004T000000
SUMMARY:El Centre de Formació d'Adults inaugura dilluns el curs 2013-2014 al Centre Cultural
LOCATION:
METHOD:PUBLISH
X-WR-CALNAME:llagosta@llagosta.cat
X-WR-TIMEZONE:Europe/Madrid
DESCRIPTION:El Centre de Formació d'Adults de la Llagosta farà dilluns, a les 18.30 h, l'acte d'inauguració oficial curs 2013-2014. Com en anys anteriors, el Centre Cultural serà l'escenari de la presentació del curs.
URI:https://www.llagosta.cat/actualitat/noticies/el-centre-de-formacio-dadults-inaugura-dilluns-el-curs-2013-2014-al-centre-cultural.html
CLASS:PUBLIC
END:VEVENT
END:VCALENDAR
