BEGIN:VCALENDAR
VERSION:2.0
CALSCALE:GREGORIAN
PRODID:-//Diputació de Barcelona//DibaCMS//EN
BEGIN:VEVENT
UID:6376
DTSTAMP:20260421T155958
DTSTART:20131004T000000
DTEND:20141004T000000
SUMMARY:El sènior masculí del Joventut Handbol juga demà a casa contra l'Alcarràs el primer partit de lliga
LOCATION:
METHOD:PUBLISH
X-WR-CALNAME:llagosta@llagosta.cat
X-WR-TIMEZONE:Europe/Madrid
DESCRIPTION:El sènior masculí del Joventut Handbol la Llagosta començarà la lliga demà dissabte. Els de Luis Canalejas debutaran a la Tercera Catalana Preferent jugant a casa contra l'Alcarràs, un equip que la temporada passada militava a la Segona Catalana.
URI:https://www.llagosta.cat/actualitat/noticies/el-senior-masculi-del-joventut-handbol-juga-dema-a-casa-contra-lalcarras-el-primer-partit-de-lliga.html
CLASS:PUBLIC
END:VEVENT
END:VCALENDAR
