BEGIN:VCALENDAR
VERSION:2.0
CALSCALE:GREGORIAN
PRODID:-//Diputació de Barcelona//DibaCMS//EN
BEGIN:VEVENT
UID:6374
DTSTAMP:20260421T112534
DTSTART:20131003T000000
DTEND:20141003T000000
SUMMARY:Dones amb Iniciativa ha programat dues xerrades per a aquest mes d'octubre
LOCATION:
METHOD:PUBLISH
X-WR-CALNAME:llagosta@llagosta.cat
X-WR-TIMEZONE:Europe/Madrid
DESCRIPTION:Dones amb Iniciativa a la Llagosta organitza al llarg d'aquest mes d'octubre dues xerrades. La primera tindrà lloc demà i porta per títol En terreny d'homes. La segona es farà el dia 23 i anirà sobre la vida de les dones sahrauís.
URI:https://www.llagosta.cat/actualitat/noticies/dones-amb-iniciativa-ha-programat-dues-xerrades-per-a-aquest-mes-doctubre.html
CLASS:PUBLIC
END:VEVENT
END:VCALENDAR
