BEGIN:VCALENDAR
VERSION:2.0
CALSCALE:GREGORIAN
PRODID:-//Diputació de Barcelona//DibaCMS//EN
BEGIN:VEVENT
UID:6373
DTSTAMP:20260421T222557
DTSTART:20131003T000000
DTEND:20141003T000000
SUMMARY:Uns quaranta veïns van acompanyar els gegants a la Trobada d'Argelers de la Marenda
LOCATION:
METHOD:PUBLISH
X-WR-CALNAME:llagosta@llagosta.cat
X-WR-TIMEZONE:Europe/Madrid
DESCRIPTION:La Colla Gegantera de la Llagosta ha fet un balanç molt positiu de la sortida del cap de setmana passat per participar en la desena Trobada gegantera d'Argelers de la Marenda, a la Catalunya Nord. Uns quaranta veïns de nostra localitat van assistir a aquesta activitat. 
URI:https://www.llagosta.cat/actualitat/noticies/uns-quaranta-veins-van-acompanyar-els-gegants-a-la-trobada-dargelers-de-la-marenda.html
CLASS:PUBLIC
END:VEVENT
END:VCALENDAR
