BEGIN:VCALENDAR
VERSION:2.0
CALSCALE:GREGORIAN
PRODID:-//Diputació de Barcelona//DibaCMS//EN
BEGIN:VEVENT
UID:6372
DTSTAMP:20260421T122455
DTSTART:20131003T000000
DTEND:20141003T000000
SUMMARY:El Viejas Glorias guanya el Sabadell Nord (4-2) i és líder amb sis punts en dos partits
LOCATION:
METHOD:PUBLISH
X-WR-CALNAME:llagosta@llagosta.cat
X-WR-TIMEZONE:Europe/Madrid
DESCRIPTION:El Club Deportivo Viejas Glorias va guanyar dissabte per 4 a 2 el Sabadell Nord i és el líder després de sumar sis punts en les dues jornades de lliga que s'han disputat. El partit va ser molt bonic amb dos equips que van jugar a l'atac i amb més ocasions de gol dels locals.
URI:https://www.llagosta.cat/actualitat/noticies/el-viejas-glorias-guanya-el-sabadell-nord-4-2-i-es-lider-amb-sis-punts-en-dos-partits.html
CLASS:PUBLIC
END:VEVENT
END:VCALENDAR
