BEGIN:VCALENDAR
VERSION:2.0
CALSCALE:GREGORIAN
PRODID:-//Diputació de Barcelona//DibaCMS//EN
BEGIN:VEVENT
UID:6371
DTSTAMP:20260422T154959
DTSTART:20131002T000000
DTEND:20141002T000000
SUMMARY:El FS Unión Llagostense perd el primer partit de lliga davant la Salut (3-2)
LOCATION:
METHOD:PUBLISH
X-WR-CALNAME:llagosta@llagosta.cat
X-WR-TIMEZONE:Europe/Madrid
DESCRIPTION:El primer equip del Fútbol Sala Unión Llagostense va començar la lliga, al grup B de la Primera Territorial, amb una derrota. Els de la nostra localitat van perdre per 3 a 2 a la pista de la Salut de Barcelona.
URI:https://www.llagosta.cat/actualitat/noticies/el-fs-union-llagostense-perd-el-primer-partit-de-lliga-davant-la-salut-3-2.html
CLASS:PUBLIC
END:VEVENT
END:VCALENDAR
