BEGIN:VCALENDAR
VERSION:2.0
CALSCALE:GREGORIAN
PRODID:-//Diputació de Barcelona//DibaCMS//EN
BEGIN:VEVENT
UID:6369
DTSTAMP:20260422T122939
DTSTART:20131002T000000
DTEND:20141002T000000
SUMMARY:Veus de Dona ofereix aquest trimestre tot un seguit de tallers a Can Pelegrí
LOCATION:
METHOD:PUBLISH
X-WR-CALNAME:llagosta@llagosta.cat
X-WR-TIMEZONE:Europe/Madrid
DESCRIPTION:Aquest mes d'octubre es posen en marxa els diferents tallers que organitza l'associació Veus de Dona de la Llagosta. En aquest primer trimestre del curs continuaran oferint classes d'informàtica, dansa del ventre, manualitats i de converses en anglès. A més, Veus de Dona oferirà també un nou taller de Pilates i un altre d'aprofitament i reciclatge de roba. 
URI:https://www.llagosta.cat/actualitat/noticies/veus-de-dona-ofereix-aquest-trimestre-tot-un-seguit-de-tallers-a-can-pelegri.html
CLASS:PUBLIC
END:VEVENT
END:VCALENDAR
