BEGIN:VCALENDAR
VERSION:2.0
CALSCALE:GREGORIAN
PRODID:-//Diputació de Barcelona//DibaCMS//EN
BEGIN:VEVENT
UID:6368
DTSTAMP:20260421T134243
DTSTART:20131001T000000
DTEND:20141001T000000
SUMMARY:De l'1 al 15 d'octubre es pot veure al Centre Cultural una mostra sobre els romans i l'aigua 
LOCATION:
METHOD:PUBLISH
X-WR-CALNAME:llagosta@llagosta.cat
X-WR-TIMEZONE:Europe/Madrid
DESCRIPTION:El Centre Cultural acull des d'avui i fins el 15 d'octubre l'exposició Seguint les petjades dels romans. Els camins de l'aigua. La mostra, instal·lada gràcies a La Llagosta + Activa, es pot visitar en horari de tarda. 
URI:https://www.llagosta.cat/actualitat/noticies/de-l1-al-15-doctubre-es-pot-veure-al-centre-cultural-una-mostra-sobre-els-romans-i-laigua-.html
CLASS:PUBLIC
END:VEVENT
END:VCALENDAR
