BEGIN:VCALENDAR
VERSION:2.0
CALSCALE:GREGORIAN
PRODID:-//Diputació de Barcelona//DibaCMS//EN
BEGIN:VEVENT
UID:6367
DTSTAMP:20260422T034639
DTSTART:20131001T000000
DTEND:20141001T000000
SUMMARY:El carrer de l'Estació passarà a ser només d'entrada al municipi a partir del 14 d'octubre
LOCATION:
METHOD:PUBLISH
X-WR-CALNAME:llagosta@llagosta.cat
X-WR-TIMEZONE:Europe/Madrid
DESCRIPTION:L'Ajuntament de la Llagosta té previst aplicar a partir de mitjans d'aquest mes canvis importants en el sentit de la circulació al carrer de l'Estació i a l'avinguda del Turó. L'alcalde, Alberto López, i altres membres de l'equip de govern han mantingut darrerament diverses reunions amb el cap de la Policia Local, Santiago Villalba, per concretar les modificacions que es posaran en marxa durant aquest mes.
URI:https://www.llagosta.cat/actualitat/noticies/el-carrer-de-lestacio-passara-a-ser-nomes-dentrada-al-municipi-a-partir-del-14-doctubre.html
CLASS:PUBLIC
END:VEVENT
END:VCALENDAR
