BEGIN:VCALENDAR
VERSION:2.0
CALSCALE:GREGORIAN
PRODID:-//Diputació de Barcelona//DibaCMS//EN
BEGIN:VEVENT
UID:6366
DTSTAMP:20260421T210154
DTSTART:20131001T000000
DTEND:20141001T000000
SUMMARY:El conjunt amateur del CE la Llagosta goleja el Figaró i es manté en primera posició
LOCATION:
METHOD:PUBLISH
X-WR-CALNAME:llagosta@llagosta.cat
X-WR-TIMEZONE:Europe/Madrid
DESCRIPTION:El primer equip del Club Esportiu la Llagosta va guanyar dissabte el Figaró per 4 a 0 i manté la primera posició al grup 9 de la Quarta Catalana. Els llagostencs van ser molt superiors als seus rivals.
URI:https://www.llagosta.cat/actualitat/noticies/el-conjunt-amateur-del-ce-la-llagosta-goleja-el-figaro-i-es-mante-en-primera-posicio.html
CLASS:PUBLIC
END:VEVENT
END:VCALENDAR
