BEGIN:VCALENDAR
VERSION:2.0
CALSCALE:GREGORIAN
PRODID:-//Diputació de Barcelona//DibaCMS//EN
BEGIN:VEVENT
UID:6364
DTSTAMP:20260419T150115
DTSTART:20130930T000000
DTEND:20140930T000000
SUMMARY:L'Ajuntament de la Llagosta convoca una plaça temporal de redactor 
LOCATION:
METHOD:PUBLISH
X-WR-CALNAME:llagosta@llagosta.cat
X-WR-TIMEZONE:Europe/Madrid
DESCRIPTION:L’Ajuntament de la Llagosta ha obert avui la convocatòria per contractar temporalment un redactor o redactora per a la Unitat d'Imatge i Comunicació. La jornada laboral serà de 18 hores setmanals i els aspirants han de tenir la titulació de Cicle Formatiu de Grau Superior, Batxillerat o equivalent.
URI:https://www.llagosta.cat/actualitat/noticies/lajuntament-de-la-llagosta-convoca-una-placa-temporal-de-redactor-.html
CLASS:PUBLIC
END:VEVENT
END:VCALENDAR
