BEGIN:VCALENDAR
VERSION:2.0
CALSCALE:GREGORIAN
PRODID:-//Diputació de Barcelona//DibaCMS//EN
BEGIN:VEVENT
UID:6361
DTSTAMP:20260421T181024
DTSTART:20130927T000000
DTEND:20140927T000000
SUMMARY:La sortida del PP de J. Alcaraz i un manifest en favor de l'esport català, temes destacats del ple
LOCATION:
METHOD:PUBLISH
X-WR-CALNAME:llagosta@llagosta.cat
X-WR-TIMEZONE:Europe/Madrid
DESCRIPTION:L'Ajuntament de la Llagosta té des d'ahir dos regidors no adscrits. Javier Alcaraz va fer oficial, durant el ple ordinari del mes de setembre, el seu abandonament del grup municipal popular. L'altre regidor no adscrit és José Luis Gutiérrez. Així, el Partit Popular, al igual que Convergència i Unió, s'ha quedat amb un únic edil, Jaume Bonallach.
URI:https://www.llagosta.cat/actualitat/noticies/la-sortida-del-pp-de-j-alcaraz-i-un-manifest-en-favor-de-lesport-catala-temes-destacats-del-ple.html
CLASS:PUBLIC
END:VEVENT
END:VCALENDAR
