BEGIN:VCALENDAR
VERSION:2.0
CALSCALE:GREGORIAN
PRODID:-//Diputació de Barcelona//DibaCMS//EN
BEGIN:VEVENT
UID:6360
DTSTAMP:20260423T000809
DTSTART:20130927T000000
DTEND:20140927T000000
SUMMARY:L'Ajuntament de la Llagosta organitzarà diumenge la dissetena Diada de la Bicicleta
LOCATION:
METHOD:PUBLISH
X-WR-CALNAME:llagosta@llagosta.cat
X-WR-TIMEZONE:Europe/Madrid
DESCRIPTION:Unes 250 persones s'han inscrit per participar diumenge en l'edició número 17 de la Diada de la Bicicleta de la Llagosta. L'activitat forma part de la programació per celebrar la Setmana de la Mobilitat Sostenible i Segura. 
URI:https://www.llagosta.cat/actualitat/noticies/lajuntament-de-la-llagosta-organitzara-diumenge-la-dissetena-diada-de-la-bicicleta.html
CLASS:PUBLIC
END:VEVENT
END:VCALENDAR
