BEGIN:VCALENDAR
VERSION:2.0
CALSCALE:GREGORIAN
PRODID:-//Diputació de Barcelona//DibaCMS//EN
BEGIN:VEVENT
UID:6359
DTSTAMP:20260422T070636
DTSTART:20130927T000000
DTEND:20140927T000000
SUMMARY:El sènior del Vallag perd contra el Sant Quirze en un partit de preparació de la temporada
LOCATION:
METHOD:PUBLISH
X-WR-CALNAME:llagosta@llagosta.cat
X-WR-TIMEZONE:Europe/Madrid
DESCRIPTION:El conjunt sènior de l'Handbol Club Vallag descansarà aquest cap de setmana. L'equip llagostenc ve de perdre un amistós a casa contra el Sant Quirze per 29 a 31. La propera setmana, el conjunt que entrena Javi Iglesias debutarà a la lliga a la Segona Catalana contra el Sant Joan Despí B.
URI:https://www.llagosta.cat/actualitat/noticies/el-senior-del-vallag-perd-contra-el-sant-quirze-en-un-partit-de-preparacio-de-la-temporada.html
CLASS:PUBLIC
END:VEVENT
END:VCALENDAR
