BEGIN:VCALENDAR
VERSION:2.0
CALSCALE:GREGORIAN
PRODID:-//Diputació de Barcelona//DibaCMS//EN
BEGIN:VEVENT
UID:6358
DTSTAMP:20260421T105016
DTSTART:20130927T000000
DTEND:20140927T000000
SUMMARY:El sènior masculí del Joventut Handbol juga demà un amistós contra el Parets
LOCATION:
METHOD:PUBLISH
X-WR-CALNAME:llagosta@llagosta.cat
X-WR-TIMEZONE:Europe/Madrid
DESCRIPTION:El sènior masculí del Joventut Handbol la Llagosta jugarà demà dissabte un partit amistós a casa contra el Parets. El conjunt que entrena Luis Canalejas va derrotar el cap de setmana passat el Cerdanyola per 26 a 24 en un altre partit de preparació de la temporada. L'equip llagostenc començarà la lliga a la Tercera Preferent la setmana que ve.
URI:https://www.llagosta.cat/actualitat/noticies/el-senior-masculi-del-joventut-handbol-juga-dema-un-amistos-contra-el-parets.html
CLASS:PUBLIC
END:VEVENT
END:VCALENDAR
