BEGIN:VCALENDAR
VERSION:2.0
CALSCALE:GREGORIAN
PRODID:-//Diputació de Barcelona//DibaCMS//EN
BEGIN:VEVENT
UID:6357
DTSTAMP:20260423T111503
DTSTART:20130927T000000
DTEND:20140927T000000
SUMMARY:L'Esportiu Bàsquet Club de la Llagosta no comptarà aquest any amb equip sènior masculí
LOCATION:
METHOD:PUBLISH
X-WR-CALNAME:llagosta@llagosta.cat
X-WR-TIMEZONE:Europe/Madrid
DESCRIPTION:L'Esportiu Bàsquet Club de la Llagosta no tindrà aquesta temporada equip sènior masculí. L'entitat ha pres aquesta decisió perquè no té suficients jugadors, un problema que ha arrossegat durant els darrers anys.
URI:https://www.llagosta.cat/actualitat/noticies/lesportiu-basquet-club-de-la-llagosta-no-comptara-aquest-any-amb-equip-senior-masculi.html
CLASS:PUBLIC
END:VEVENT
END:VCALENDAR
