BEGIN:VCALENDAR
VERSION:2.0
CALSCALE:GREGORIAN
PRODID:-//Diputació de Barcelona//DibaCMS//EN
BEGIN:VEVENT
UID:6356
DTSTAMP:20260421T173204
DTSTART:20130926T000000
DTEND:20140926T000000
SUMMARY:Javier Alcaraz abandona al ple d'avui el grup municipal del Partit Popular
LOCATION:
METHOD:PUBLISH
X-WR-CALNAME:llagosta@llagosta.cat
X-WR-TIMEZONE:Europe/Madrid
DESCRIPTION:El regidor de l'Ajuntament de la Llagosta Javier Alcaraz farà avui oficial la seva marxa del grup municipal del Partit Popular i passarà a ser regidor no adscrit. Aquest serà un dels punts de l'ordre del dia del ple ordinari de setembre que se celebrarà aquesta tarda a partir de les 19 h.
URI:https://www.llagosta.cat/actualitat/noticies/javier-alcaraz-abandona-al-ple-davui-el-grup-municipal-del-partit-popular.html
CLASS:PUBLIC
END:VEVENT
END:VCALENDAR
