BEGIN:VCALENDAR
VERSION:2.0
CALSCALE:GREGORIAN
PRODID:-//Diputació de Barcelona//DibaCMS//EN
BEGIN:VEVENT
UID:6339
DTSTAMP:20260424T055723
DTSTART:20130919T000000
DTEND:20140919T000000
SUMMARY:Dissabte, se celebrarà el 25è Homenatge a Catalunya a la plaça d'Antoni Baqué
LOCATION:
METHOD:PUBLISH
X-WR-CALNAME:llagosta@llagosta.cat
X-WR-TIMEZONE:Europe/Madrid
DESCRIPTION:El Grup de Ball de Gitanes de la Llagosta organitzarà dissabte a partir de dos quarts de sis de la tarda el 25è Homenatge a Catalunya. L'acte s'havia d'haver celebrat durant la Diada de Catalunya, però es va suspendre a causa del mal temps.
URI:https://www.llagosta.cat/actualitat/noticies/dissabte-se-celebrara-el-25e-homenatge-a-catalunya-a-la-placa-dantoni-baque.html
CLASS:PUBLIC
END:VEVENT
END:VCALENDAR
