BEGIN:VCALENDAR
VERSION:2.0
CALSCALE:GREGORIAN
PRODID:-//Diputació de Barcelona//DibaCMS//EN
BEGIN:VEVENT
UID:6337
DTSTAMP:20260421T202130
DTSTART:20130918T000000
DTEND:20140918T000000
SUMMARY:El Club Deportivo la Concòrdia fitxa una altra jugadora per reforçar el primer equip
LOCATION:
METHOD:PUBLISH
X-WR-CALNAME:llagosta@llagosta.cat
X-WR-TIMEZONE:Europe/Madrid
DESCRIPTION:El Club Deportivo la Concòrdia ha fitxat Anna Escribano, una jugadora de 14 anys, per reforçar el primer equip. Escribano procedeix del Club Natació Sabadell, amb el qual ha jugat les tres últimes temporades a la Divisió d'Honor Catalana en categoria infantil. 
URI:https://www.llagosta.cat/actualitat/noticies/el-club-deportivo-la-concordia-fitxa-una-altra-jugadora-per-reforcar-el-primer-equip.html
CLASS:PUBLIC
END:VEVENT
END:VCALENDAR
