BEGIN:VCALENDAR
VERSION:2.0
CALSCALE:GREGORIAN
PRODID:-//Diputació de Barcelona//DibaCMS//EN
BEGIN:VEVENT
UID:6334
DTSTAMP:20260423T112757
DTSTART:20130917T000000
DTEND:20140917T000000
SUMMARY:Ja estan obertes les preinscripcions per als tallers per a persones grans
LOCATION:
METHOD:PUBLISH
X-WR-CALNAME:llagosta@llagosta.cat
X-WR-TIMEZONE:Europe/Madrid
DESCRIPTION:L'Ajuntament de la Llagosta ja ha enllestit la programació d'activitats culturals per a la gent gran del curs 2013-2014. Entre els actes previstos, hi ha tallers, xerrades i diverses excursions. Les preinscripcions per participar a les propostes d'enguany s'han de fer a l'Oficina d'Atenció a la Ciutadania fins al 26 de setembre.
URI:https://www.llagosta.cat/actualitat/noticies/ja-estan-obertes-les-preinscripcions-per-als-tallers-per-a-persones-grans.html
CLASS:PUBLIC
END:VEVENT
END:VCALENDAR
