BEGIN:VCALENDAR
VERSION:2.0
CALSCALE:GREGORIAN
PRODID:-//Diputació de Barcelona//DibaCMS//EN
BEGIN:VEVENT
UID:6333
DTSTAMP:20260421T234407
DTSTART:20130917T000000
DTEND:20140907T000000
SUMMARY:Ja es coneixen els guanyadors del tercer Ral·li fotogràfic de la Festa Major
LOCATION:
METHOD:PUBLISH
X-WR-CALNAME:llagosta@llagosta.cat
X-WR-TIMEZONE:Europe/Madrid
DESCRIPTION:Els guanyadors del tercer Ral·li fotogràfic de la Festa Major de la Llagosta han estat Alberto Alonso, Eric Gros i Nerea Cortés, en el tema Festa Major, i Pedro Sánchez, Elena Márquez i Juan Antonio Castro, en el tema Gegants i capgrossos. A més, la fotografia de Juan Antonio Castro ha estat escollida com a imatge de la Trobada de gegants de la Llagosta de l'any que ve. Cadascun dels guanyadors ha rebut 50 euros.
URI:https://www.llagosta.cat/actualitat/noticies/ja-es-coneixen-els-guanyadors-del-tercer-ralli-fotografic-de-la-festa-major.html
CLASS:PUBLIC
END:VEVENT
END:VCALENDAR
