BEGIN:VCALENDAR
VERSION:2.0
CALSCALE:GREGORIAN
PRODID:-//Diputació de Barcelona//DibaCMS//EN
BEGIN:VEVENT
UID:6329
DTSTAMP:20260421T135623
DTSTART:20130916T000000
DTEND:20140916T000000
SUMMARY:El sènior de la Concòrdia derrota l'Estel Vallseca (3-0) abans d'iniciar la lliga dissabte
LOCATION:
METHOD:PUBLISH
X-WR-CALNAME:llagosta@llagosta.cat
X-WR-TIMEZONE:Europe/Madrid
DESCRIPTION:El sènior femení del Club Deportivo la Concòrdia va guanyar dissabte per 3 a 0 l'Estel Vallseca de Barcelona en el segon i darrer amistós de pretemporada. L'equip llagostenc va ser molt superior al seu rival. Al descans, el resultat ja era de 3 a 0 amb gols de Cintia, Jessica i Estefa.
URI:https://www.llagosta.cat/actualitat/noticies/el-senior-de-la-concordia-derrota-lestel-vallseca-3-0-abans-diniciar-la-lliga-dissabte.html
CLASS:PUBLIC
END:VEVENT
END:VCALENDAR
