BEGIN:VCALENDAR
VERSION:2.0
CALSCALE:GREGORIAN
PRODID:-//Diputació de Barcelona//DibaCMS//EN
BEGIN:VEVENT
UID:6328
DTSTAMP:20260421T122629
DTSTART:20130913T000000
DTEND:20140913T000000
SUMMARY:David Ribera, d'Igualada, guanyador del 13è Concurs Estatal de Fotografia
LOCATION:
METHOD:PUBLISH
X-WR-CALNAME:llagosta@llagosta.cat
X-WR-TIMEZONE:Europe/Madrid
DESCRIPTION:El guanyador del 13è Concurs Estatal de Fotografia ha estat David Ribera Cos, d'Igualada. A la categoria la Llagosta, el primer premi ha estat per Agustín Padilla, de Badia del Vallès. Al Centre Cultural de la Llagosta podem veure encara l'exposició del certamen organitzat pel Foto-Club la Llagosta amb la col·laboració de l'Ajuntament.
URI:https://www.llagosta.cat/actualitat/noticies/david-ribera-digualada-guanyador-del-13e-concurs-estatal-de-fotografia.html
CLASS:PUBLIC
END:VEVENT
END:VCALENDAR
